{
 "currentVersion": 11.1,
 "cimVersion": "3.1.0",
 "serviceDescription": "",
 "mapName": "Map",
 "description": "",
 "copyrightText": "",
 "supportsDynamicLayers": true,
 "layers": [
  {
   "id": 0,
   "name": "20250420T225551_fire_2fbf1662-e284-4e7d-9af2-c4b742b10540_Arctic-Ice_S2C_N0511_R001_T04WED_437e5b7b_FCI.tif",
   "parentLayerId": -1,
   "defaultVisibility": true,
   "subLayerIds": null,
   "minScale": 0,
   "maxScale": 0,
   "type": "Raster Layer",
   "supportsDynamicLegends": true
  },
  {
   "id": 1,
   "name": "20250419T223529_fire_2fbf1662-e284-4e7d-9af2-c4b742b10540_Arctic-Ice_S2B_N0511_R058_T04WED_437e5b7b_FCI.tif",
   "parentLayerId": -1,
   "defaultVisibility": true,
   "subLayerIds": null,
   "minScale": 0,
   "maxScale": 0,
   "type": "Raster Layer",
   "supportsDynamicLegends": true
  },
  {
   "id": 2,
   "name": "20250416T222539_fire_2fbf1662-e284-4e7d-9af2-c4b742b10540_Arctic-Ice_S2B_N0511_R015_T04WED_3fd9f45f_FCI.tif",
   "parentLayerId": -1,
   "defaultVisibility": true,
   "subLayerIds": null,
   "minScale": 0,
   "maxScale": 0,
   "type": "Raster Layer",
   "supportsDynamicLegends": true
  },
  {
   "id": 3,
   "name": "20250415T225539_fire_2fbf1662-e284-4e7d-9af2-c4b742b10540_Arctic-Ice_S2B_N0511_R001_T04WED_3fd9f45f_FCI.tif",
   "parentLayerId": -1,
   "defaultVisibility": true,
   "subLayerIds": null,
   "minScale": 0,
   "maxScale": 0,
   "type": "Raster Layer",
   "supportsDynamicLegends": true
  },
  {
   "id": 4,
   "name": "20250414T223551_fire_2fbf1662-e284-4e7d-9af2-c4b742b10540_Arctic-Ice_S2C_N0511_R058_T04WED_3fd9f45f_FCI.tif",
   "parentLayerId": -1,
   "defaultVisibility": true,
   "subLayerIds": null,
   "minScale": 0,
   "maxScale": 0,
   "type": "Raster Layer",
   "supportsDynamicLegends": true
  }
 ],
 "tables": [],
 "spatialReference": {
  "wkid": 4326,
  "latestWkid": 4326,
  "xyTolerance": 8.983152841195215E-9,
  "zTolerance": 0.001,
  "mTolerance": 0.001,
  "falseX": -400,
  "falseY": -400,
  "xyUnits": 9.999999999999999E8,
  "falseZ": -100000,
  "zUnits": 10000,
  "falseM": -100000,
  "mUnits": 10000
 },
 "singleFusedMapCache": true,
 "tileInfo": {
  "rows": 256,
  "cols": 256,
  "dpi": 96,
  "format": "Mixed",
  "compressionQuality": 75,
  "origin": {
   "x": -180,
   "y": 90
  },
  "spatialReference": {
   "wkid": 4326,
   "latestWkid": 4326,
   "xyTolerance": 8.983152841195213E-9,
   "zTolerance": 0.001,
   "mTolerance": 0.001,
   "falseX": -399.9999999999999,
   "falseY": -399.9999999999999,
   "xyUnits": 1.125899906842624E13,
   "falseZ": -100000,
   "zUnits": 10000,
   "falseM": -100000,
   "mUnits": 10000
  },
  "lods": [
   {
    "level": 0,
    "resolution": 0.703125,
    "scale": 2.958287637958547E8
   },
   {
    "level": 1,
    "resolution": 0.3515625,
    "scale": 1.4791438189792734E8
   },
   {
    "level": 2,
    "resolution": 0.17578125,
    "scale": 7.395719094896367E7
   },
   {
    "level": 3,
    "resolution": 0.087890625,
    "scale": 3.6978595474481836E7
   },
   {
    "level": 4,
    "resolution": 0.0439453125,
    "scale": 1.8489297737240918E7
   },
   {
    "level": 5,
    "resolution": 0.02197265625,
    "scale": 9244648.868620459
   },
   {
    "level": 6,
    "resolution": 0.010986328125,
    "scale": 4622324.4343102295
   },
   {
    "level": 7,
    "resolution": 0.0054931640625,
    "scale": 2311162.2171551147
   },
   {
    "level": 8,
    "resolution": 0.00274658203125,
    "scale": 1155581.1085775574
   },
   {
    "level": 9,
    "resolution": 0.001373291015625,
    "scale": 577790.5542887787
   },
   {
    "level": 10,
    "resolution": 6.866455078125E-4,
    "scale": 288895.27714438934
   },
   {
    "level": 11,
    "resolution": 3.4332275390625E-4,
    "scale": 144447.63857219467
   },
   {
    "level": 12,
    "resolution": 1.71661376953125E-4,
    "scale": 72223.81928609734
   },
   {
    "level": 13,
    "resolution": 8.58306884765625E-5,
    "scale": 36111.90964304867
   },
   {
    "level": 14,
    "resolution": 4.291534423828125E-5,
    "scale": 18055.954821524334
   },
   {
    "level": 15,
    "resolution": 2.1457672119140625E-5,
    "scale": 9027.977410762167
   },
   {
    "level": 16,
    "resolution": 1.0728836059570312E-5,
    "scale": 4513.9887053810835
   },
   {
    "level": 17,
    "resolution": 5.364418029785156E-6,
    "scale": 2256.9943526905417
   },
   {
    "level": 18,
    "resolution": 2.682209014892578E-6,
    "scale": 1128.4971763452709
   },
   {
    "level": 19,
    "resolution": 1.341104507446289E-6,
    "scale": 564.2485881726354
   },
   {
    "level": 20,
    "resolution": 6.705522537231445E-7,
    "scale": 282.1242940863177
   },
   {
    "level": 21,
    "resolution": 3.3527612686157227E-7,
    "scale": 141.06214704315886
   },
   {
    "level": 22,
    "resolution": 1.6763806343078613E-7,
    "scale": 70.53107352157943
   }
  ]
 },
 "storageInfo": {
  "storageFormat": "esriMapCacheStorageModeCompactV2",
  "packetSize": 128
 },
 "initialExtent": {
  "xmin": -157.05245153928382,
  "ymin": 71.01015681040064,
  "xmax": -156.26692028865762,
  "ymax": 71.69018124037609,
  "spatialReference": {
   "wkid": 4326,
   "latestWkid": 4326,
   "xyTolerance": 8.983152841195215E-9,
   "zTolerance": 0.001,
   "mTolerance": 0.001,
   "falseX": -400,
   "falseY": -400,
   "xyUnits": 9.999999999999999E8,
   "falseZ": -100000,
   "zUnits": 10000,
   "falseM": -100000,
   "mUnits": 10000
  }
 },
 "fullExtent": {
  "xmin": -157.35964232656391,
  "ymin": 70.90111099294319,
  "xmax": -156.16717608878767,
  "ymax": 71.75402593068148,
  "spatialReference": {
   "wkid": 4326,
   "latestWkid": 4326,
   "xyTolerance": 8.983152841195215E-9,
   "zTolerance": 0.001,
   "mTolerance": 0.001,
   "falseX": -400,
   "falseY": -400,
   "xyUnits": 9.999999999999999E8,
   "falseZ": -100000,
   "zUnits": 10000,
   "falseM": -100000,
   "mUnits": 10000
  }
 },
 "datesInUnknownTimezone": false,
 "minScale": 2.958287637958547E8,
 "maxScale": 36111.90964304867,
 "minLOD": 0,
 "maxLOD": 13,
 "units": "esriDecimalDegrees",
 "supportedImageFormatTypes": "PNG32,PNG24,PNG,JPG,DIB,TIFF,EMF,PS,PDF,GIF,SVG,SVGZ,BMP",
 "documentInfo": {
  "Title": "Map",
  "Author": "",
  "Comments": "",
  "Subject": "",
  "Category": "",
  "Version": "3.1.0",
  "AntialiasingMode": "Fast",
  "TextAntialiasingMode": "Force",
  "Keywords": "Arctic"
 },
 "capabilities": "Map,Query,Data",
 "supportedQueryFormats": "JSON, geoJSON, PBF",
 "exportTilesAllowed": false,
 "referenceScale": 0.0,
 "datumTransformations": [
  {
   "geoTransforms": [
    {
     "wkid": 108190,
     "latestWkid": 108190,
     "transformForward": false,
     "name": "WGS_1984_(ITRF00)_To_NAD_1983"
    }
   ]
  },
  {
   "geoTransforms": [
    {
     "wkid": 108190,
     "latestWkid": 108190,
     "transformForward": true,
     "name": "WGS_1984_(ITRF00)_To_NAD_1983"
    }
   ]
  }
 ],
 "supportsDatumTransformation": true,
 "floorAwareMapProperties": {
  "defaultFloorFilterSettings": {
   "isEnabled": false
  }
 },
 "archivingInfo": {
  "supportsHistoricMoment": false
 },
 "supportsClipping": true,
 "supportsSpatialFilter": true,
 "supportsTimeRelation": true,
 "supportsQueryDataElements": true,
 "mapUnits": {
  "uwkid": 9102
 },
 "maxRecordCount": 2000,
 "maxImageHeight": 4096,
 "maxImageWidth": 4096,
 "supportedExtensions": "KmlServer, WMSServer",
 "serviceItemId": "afd41659dcaa4970b7819e13826f94dc"
}
